BEGIN:VCALENDAR
PRODID:-//eluceo/ical//2.0/EN
VERSION:2.0
CALSCALE:GREGORIAN
BEGIN:VEVENT
UID:443d8b8efef10b86fd7d4733ddfe17c6
DTSTAMP:20260420T121131Z
SUMMARY:LifePlus MS Basketball (TJ)
DESCRIPTION:
DTSTART;VALUE=DATE:20260422
DTEND;VALUE=DATE:20260425
END:VEVENT
END:VCALENDAR
