BEGIN:VCALENDAR
PRODID:-//eluceo/ical//2.0/EN
VERSION:2.0
CALSCALE:GREGORIAN
BEGIN:VEVENT
UID:8a60182c41e0bffb88643c0c6937f693
DTSTAMP:20260420T121400Z
SUMMARY:Spring Musical
DESCRIPTION:
DTSTART;VALUE=DATE:20260423
END:VEVENT
END:VCALENDAR
