BEGIN:VCALENDAR
PRODID:-//eluceo/ical//2.0/EN
VERSION:2.0
CALSCALE:GREGORIAN
BEGIN:VEVENT
UID:f6ff87fc8316ac7f5b0a78296d500e97
DTSTAMP:20260420T121412Z
SUMMARY:ECC Family Day
DESCRIPTION:
DTSTART;VALUE=DATE:20260423
END:VEVENT
END:VCALENDAR
